BEGIN:VCALENDAR
VERSION:2.0
PRODID:-//wp-events-plugin.com//7.2.2.1//EN
TZID:Europe/Berlin
X-WR-TIMEZONE:Europe/Berlin
BEGIN:VEVENT
UID:14@ski.fc-wernberg.de
DTSTART;TZID=Europe/Berlin:20260124T040000
DTEND;TZID=Europe/Berlin:20260124T230000
DTSTAMP:20251012T192811Z
URL:https://ski.fc-wernberg.de/events/tagesfahrt-st-johann/
SUMMARY:Tagesfahrt St.Johann in Tirol
DESCRIPTION:\n 	Abfahrt: 4:00 Uhr (Sportheim FC Wernberg\, Sportplatzstr. 2
 2\, Wernberg-Köblitz)\n 	Zustieg: Wird nach Bedarf bekannt gegeben\, bitt
 e Wohnort bei der Anmeldung mit angeben\n 	Rückfahrt: gegen ca. 18:30 vom
  Skigebiet\n 	Preis: Busfahrt inkl. Skipass\n 	Reisepreis wird im Bus geza
 hlt\n 	Bei jeder Tagesfahrt gibt es eine Überraschung seitens des Skiclub
 s für Groß u. Klein\n\nTeilnehmer die nicht aus Wernberg kommen bitte wi
 r den Herkunftsort mit anzugeben.\nSollten sich mehrere Teilnehmer finden 
 gib es einen zustätzlichen Anfahrtsort in Nähe\, der dann noch per Email
  bekannt gegeben wird.
CATEGORIES:Tagesfahrt
END:VEVENT
BEGIN:VTIMEZONE
TZID:Europe/Berlin
X-LIC-LOCATION:Europe/Berlin
BEGIN:STANDARD
DTSTART:20251026T020000
TZOFFSETFROM:+0200
TZOFFSETTO:+0100
TZNAME:CET
END:STANDARD
END:VTIMEZONE
END:VCALENDAR